Workbook
Name _ddList1EN: 'Multi-level Dropdown'!$I$48
Name _ddList1NL: 'Multi-level Dropdown'!$I$141
Name _List1EN: _xlfn.ANCHORARRAY('Multi-level Dropdown'!$I$48)
Name _List1NL: _xlfn.ANCHORARRAY('Multi-level Dropdown'!$I$141)
Name _List2EN: _xlfn.ANCHORARRAY('Multi-level Dropdown'!$J$48)
Name _List2NL: _xlfn.ANCHORARRAY('Multi-level Dropdown'!$J$141)
Name _List3EN: _xlfn.ANCHORARRAY('Multi-level Dropdown'!$K$48)
Name _List3NL: _xlfn.ANCHORARRAY('Multi-level Dropdown'!$K$141)
Name _List4EN: _xlfn.ANCHORARRAY('Multi-level Dropdown'!$L$48)
Name _List4NL: _xlfn.ANCHORARRAY('Multi-level Dropdown'!$L$141)
Name Brussel: 'Data Validation'!$D$37:$D$40
Name dvENLevel1: 'Data Validation'!$D$36:$F$36
Name dvNameEN: 'Data Validation'!$H$14:$H$16
Name OEF_INDEX: 'Lookup Functions'!$C$225
Name OEF_SUMIF: 'Lookup Functions'!$C$271
Name OEF_SUMIFS: 'Lookup Functions'!$C$299
Name OEF_Tabellen: 'Table vs range'!$B$32
Name OEF_XLOOKUP: 'Lookup Functions'!$C$194
Name OEF_XMATCH: 'Lookup Functions'!$C$249
Name Vlaanderen: 'Data Validation'!$E$37:$E$40
Name Wallonië: 'Data Validation'!$F$37:$F$40

Sheet Excel is geen database
B1: Excel is geen database
B2: IT: Je weet toch dat Excel geen database is?
B3: Gebruiker: OK, geef me dan een database.
B4: IT: eerst een aanvraag indienen
B5: Gebruiker: OK, gebeurd. Wanneer is het klaar?
B6: IT: eerst budget en timing regelen
B7: Gebruiker: Ja zeg, ik moet het maandag af hebben…
B8: IT: Misschien dan toch maar even Excel gebruiken
B12: IT: We hebben nieuws over het project dat je had ingediend. Er is onvoldoende toegevoegde waarde om te investeren.
B13: Gebruiker: Wat moet ik doen dan?
B14: IT: Tja, met Excel moet het ook wel lukken.
B18: IT: Ok, in tussentijd vindt men dat het niet langer houdbaar is met jouw Excellekes hier…
... B36: Conclusie: Als je niet de tools hebt die je nodig hebt, kan je maar beter goed zijn in Excel!

Sheet Instructions
B2: Excel as Database Excel als databank Excel comme Base de données
B4: EN
C5: How to use this Workbook
C6: This Workbook contains a number of Worksheets.
C7: The Worksheet named "Instructions" describes the all the Worksheets with a brief overview of what it is indended for and what it contains. In the list, the name of each Worksheet is a clickable hyperlink to navigate to the Worksheet in question.
C8: Each Worksheet includes (in the top left corner, cell A1) a clickable hyperlink to return to the "Instructions" Worksheet.
C10: In most Worksheets, the most right hand column shows white (merged) cells to allow you to make notes during the course without leaving the document. Typically, greyed cells will be read-only.
C12: Sheets this Workbook
C13: {=_xlfn.TEXTBEFORE(_xlfn.TEXTAFTER(CELL("address",'What is a Database'!$A$1),"]"),"'",1)} -> What is a Database | D13: Although Excel is not specifically designed as a DBMS (DataBase Management System, such as MS Access, SQL or other database apps), it can often be used as a valid replacement for such DBMS's. Especially with the declining focus of MS on Access and due to the fact that most organisations already have Excel available in house, using Excel as "DBMS" can offer a working alternative at no or low additional cost to the organisation. In the context of Excel, a database is an organized collection of data stored within spreadsheets. It allows for efficient retrieval, management, and updating of data using Excel's built-in tools and functions. Excel databases can store information such as customer records, inventory, and transaction details in a structured format using rows and columns. Users can manipulate and query the data using features like filters, pivot tables, and formulas. Excel databases are essential for businesses and organizations to maintain structured and accessible information in a familiar and user-friendly environment.
C14: {=_xlfn.TEXTBEFORE(_xlfn.TEXTAFTER(CELL("address",'Table vs range'!$A$1),"]"),"'",1)} -> Table vs range | D14: While the words "table" and "range" are often used interchangeably in Excel, there are some very distinct and significant advantages in converting a data range to a "Table", such as easier-to-read formulas (using "Structured References"), more flexible, dynamic and robust data handling, etc.
C15: {=_xlfn.TEXTBEFORE(_xlfn.TEXTAFTER(CELL("address",'Lookup Functions'!$A$1),"]"),"'",1)} -> Lookup Functions | D15: Lookup Functions are typically used to look for a certain value in a data set and retrieve the corresponding record values from another part of that data set. In this section, functions such as VLOOKUP and XLOOKUP, INDEX and XMATCH and also some aggregating functions such as SUMIF, SUMIFS are explained.
C16: {=_xlfn.TEXTBEFORE(_xlfn.TEXTAFTER(CELL("address",'Database Functions'!$A$1),"]"),"'",1)} -> Database Functions | D16: Often unknown or underestimated, Excel has offered specific aggregation functions such as DSUM, DAVERAGE, … to provide a consistent way to aggregate data sets using one or multiple criteria, allowing to mix AND-type with OR-type criteria. Something which is much more complex to do using the traditional SUMIF or other aggregation formulae.
C17: {=_xlfn.TEXTBEFORE(_xlfn.TEXTAFTER(CELL("address",'Sorting and Filtering'!$A$1),"]"),"'",1)} -> Sorting and Filtering | D17: Lookup Functions and Database Functions traditionally take one or multiple arguments and return a single result. What if you need to return a multitude of results (e.g. ALL individual values that correspond to specific criteria? This is where "Dynamic Array Functions" come in, such as UNIQUE, SORT, SORTBY, FILTER, VSTACK, HSTACK CHOOSECOLS.
C18: {=_xlfn.TEXTBEFORE(_xlfn.TEXTAFTER(CELL("address",'Data Validation'!$A$1),"]"),"'",1)} -> Data Validation | D18: When working with a database, input control or validation is crucial to avoid unexpected results due to "poluted" data. Data Validation techniques can be very helpful in this respect.
C19: {=_xlfn.TEXTBEFORE(_xlfn.TEXTAFTER(CELL("address",'Source Data'!$B$3),"]"),"'",1)} -> Source Data | D19: This worksheet contains all of the source data used in the other worksheets.
B21: NL
C22: Gebruiksinstructies voor deze Werkmap
C23: Dit Werkmap bevat een aantal Werkbladen.
C24: Het Werkblad met de naam "Instructions" beschrijft ieder Werkblad met een kort overzicht van waarvoor het bedoeld is en wat het bevat. In de lijst is de naam van elk Werkblad een klikbare hyperlink om naar het betreffende Werkblad te navigeren.
C25: Elk Werkblad bevat (in de linkerbovenhoek, cel A1) een klikbare hyperlink om terug te keren naar het Werkblad 'Instructions'.
C27: In de meeste Werkbladen toont de meest rechtse kolom witte (samengevoegde) cellen, zodat u tijdens de cursus aantekeningen kunt maken zonder het document te verlaten. Meestal zijn grijze cellen alleen-lezen.
C29: Werkbladen (gekleurd) met theorie in deze Werkmap
C30: {=_xlfn.TEXTBEFORE(_xlfn.TEXTAFTER(CELL("address",'What is a Database'!$A$1),"]"),"'",1)} -> What is a Database | D30: Hoewel Excel niet specifiek is ontworpen als een DBMS (DataBase Management System, zoals MS Access, SQL of andere database-apps), kan het vaak worden gebruikt als een vervanging voor dergelijke DBMS'en. Vooral met de afnemende focus van MS op Access en het feit dat de meeste organisaties Excel al in huis hebben, kan het gebruik van Excel als "DBMS" een werkend alternatief bieden tegen geen of lage extra kosten voor de organisatie. In de context van Excel is een database een georganiseerde verzameling gegevens die is opgeslagen in spreadsheets. Het maakt het mogelijk om gegevens efficiënt op te halen, te beheren en bij te werken met behulp van de ingebouwde tools en functies van Excel. Excel-databases kunnen informatie zoals klantgegevens, voorraad en transactiegegevens opslaan in een gestructureerde indeling met behulp van rijen en kolommen. Gebruikers kunnen de gegevens bewerken en raadplegen met functies zoals filters, draaitabellen en formules. Excel-databases zijn essentieel voor bedrijven en organisaties om gestructureerde en toegankelijke informatie te beheren in een vertrouwde en gebruiksvriendelijke omgeving.
C31: {=_xlfn.TEXTBEFORE(_xlfn.TEXTAFTER(CELL("address",'Table vs range'!$A$1),"]"),"'",1)} -> Table vs range | D31: Hoewel de woorden "tabel" en "bereik" in Excel vaak door elkaar worden gebruikt, biedt het converteren van een gegevensbereik naar een "Tabel" een aantal duidelijke en belangrijke voordelen. Denk bijvoorbeeld aan gemakkelijker te lezen formules (met behulp van "gestructureerde verwijzingen"), flexibelere, dynamischere en robuustere gegevensverwerking, enzovoort.
C32: {=_xlfn.TEXTBEFORE(_xlfn.TEXTAFTER(CELL("address",'Lookup Functions'!$A$1),"]"),"'",1)} -> Lookup Functions | D32: Opzoekfuncties worden doorgaans gebruikt om naar een bepaalde waarde in een dataset te zoeken en de bijbehorende recordwaarden uit een ander deel van die dataset op te halen. In deze sectie worden functies zoals VERT.ZOEKEN en X.ZOEKEN, INDEX en X.VERGELIJKEN en enkele aggregatiefuncties zoals SOM.ALS en SOMMEN.ALS uitgelegd.
C33: {=_xlfn.TEXTBEFORE(_xlfn.TEXTAFTER(CELL("address",'Database Functions'!$A$1),"]"),"'",1)} -> Database Functions | D33: Vaak onbekend of onderschat, biedt Excel specifieke aggregatiefuncties zoals DBSOM, DBGEMIDDELDE, ... om op een consistente manier datasets te aggregeren met behulp van één of meerdere criteria, waardoor EN-type- en OF-type-criteria gecombineerd kunnen worden. Iets wat veel complexer is met de traditionele SOM.ALS of andere aggregatieformules.
C34: {=_xlfn.TEXTBEFORE(_xlfn.TEXTAFTER(CELL("address",'Sorting and Filtering'!$A$1),"]"),"'",1)} -> Sorting and Filtering | D34: Opzoekfuncties en databasefuncties accepteren traditioneel één of meerdere argumenten en retourneren één resultaat. Wat als u meerdere resultaten moet retourneren (bijvoorbeeld ALLE individuele waarden die voldoen aan specifieke criteria?) Hier komen "Dynamische matrixfuncties" van pas, zoals UNIEK, SORTEREN, SORTEREN.OP, FILTER, VERT.STAPELEN, HOR.STAPELEN, KIES.KOLOMMEN.
C35: {=_xlfn.TEXTBEFORE(_xlfn.TEXTAFTER(CELL("address",'Data Validation'!$A$1),"]"),"'",1)} -> Data Validation | D35: Bij het werken met een database is invoercontrole of -validatie cruciaal om onverwachte resultaten als gevolg van "vervuilde" data te voorkomen. Datavalidatietechnieken kunnen hierbij zeer nuttig zijn.
C36: {=_xlfn.TEXTBEFORE(_xlfn.TEXTAFTER(CELL("address",'Source Data'!$B$3),"]"),"'",1)} -> Source Data | D36: Dit werkblad bevat alle brongegevens die in de andere werkbladen zijn gebruikt.
B38: FR
C39: Comment utiliser ce Classeur
C40: Ce Classeur contient un certain nombre de Feuilles.
C41: La Feuille intitulée « Instructions » décrit toutes les Feuilles avec un bref aperçu de ce à quoi elle est destinée et de ce qu'elle contient. Dans la liste, le nom de chaque Feuille est un lien hypertexte cliquable pour accéder à la Feuille en question.
C42: Chaque Feuille inclut (dans le coin supérieur gauche, cellule A1) un lien hypertexte cliquable pour revenir à la Feuille "Instructions".
C44: Dans la plupart des Feuilles , la colonne la plus à droite affiche des cellules blanches (fusionnées) pour vous permettre de prendre des notes pendant le cours sans quitter le document. En général, les cellules grisées sont en lecture seule.
C46: Feuilles dans ce Classeur
C47: {=_xlfn.TEXTBEFORE(_xlfn.TEXTAFTER(CELL("address",'What is a Database'!$A$1),"]"),"'",1)} -> What is a Database | D47: Bien qu'Excel ne soit pas spécifiquement conçu comme un SGBD (système de gestion de base de données, comme MS Access, SQL ou d'autres applications de gestion de base de données), il peut souvent être utilisé comme une alternative valable à ces SGBD. Compte tenu notamment du déclin de Microsoft dans le développement de MS Access et du fait que la plupart des organisations utilisent déjà Excel en interne, utiliser Excel comme SGBD peut offrir une alternative fonctionnelle, sans frais supplémentaires, voire à faible coût. Dans le contexte d'Excel, une base de données est un ensemble organisé de données stockées dans des feuilles de calcul. Elle permet une récupération, une gestion et une mise à jour efficaces des données grâce aux outils et fonctions intégrés d'Excel. Les bases de données Excel peuvent stocker des informations telles que les dossiers clients, les stocks et les détails des transactions dans un format structuré, composé de lignes et de colonnes. Les utilisateurs peuvent manipuler et interroger les données à l'aide de fonctionnalités telles que les filtres, les tableaux croisés dynamiques et les formules. Les bases de données Excel sont essentielles pour les entreprises et les organisations qui souhaitent conserver des informations structurées et accessibles dans un environnement familier et convivial.
C48: {=_xlfn.TEXTBEFORE(_xlfn.TEXTAFTER(CELL("address",'Table vs range'!$A$1),"]"),"'",1)} -> Table vs range | D48: Bien que les termes « tableau » et « plage » soient souvent utilisés de manière interchangeable dans Excel, la conversion d'une plage de données en « Tableau » présente des avantages très distincts et significatifs, tels que des formules plus faciles à lire (à l'aide de « références structurées »), une gestion des données plus flexible, dynamique et robuste, etc.
C49: {=_xlfn.TEXTBEFORE(_xlfn.TEXTAFTER(CELL("address",'Lookup Functions'!$A$1),"]"),"'",1)} -> Lookup Functions | D49: Les fonctions de recherche sont généralement utilisées pour rechercher une valeur spécifique dans un ensemble de données et récupérer les valeurs d'enregistrement correspondantes dans une autre partie de cet ensemble. Cette section présente des fonctions telles que RECHERCHEV, RECHERCHEXL, INDEX et EQUIVX, ainsi que des fonctions d'agrégation telles que SOMME.SI et SOMME.SI.ENS.
C50: {=_xlfn.TEXTBEFORE(_xlfn.TEXTAFTER(CELL("address",'Database Functions'!$A$1),"]"),"'",1)} -> Database Functions | D50: Souvent méconnues ou sous-estimées, Excel propose des fonctions d'agrégation spécifiques telles que BDSOMME, BDMOYENNE, etc., permettant d'agréger des ensembles de données de manière cohérente selon un ou plusieurs critères, en combinant des critères de type ET et de type OU. Cette opération est beaucoup plus complexe à réaliser avec la formule d'agrégation traditionnelle SOMME.SI ou d'autres formules.
...

Sheet What is a Database
A1: ←
B2: EN | C2: What is a "Database" ?
B3: Difference between a Flat Data Table and a Database
C4: Structure | D4: Flat Data Table: Contains a single table with rows and columns, often stored in CSV-files, Excel worksheet ranges or Tables, MS Lists, … Database: Consists of multiple tables with rows and columns organised in a structured format with relationships between tables. Each row in one of these tables is often referred to as a "record", each column is typically a "field" (with the column title being the field name). In the case of Excel, the relationships between tables are most of the time be established by formulae.
C5: Data Integrity | D5: Flat Data Table: Lacks built-in mechanisms for enforcing data integrity. Note: Excel does offer data validation possibilities as well as (conditional) formatting configuration options to "mimic" this type of enforced data integrity. Database: Enforces data integrity through primary and foreign keys, ensuring consistent and accurate data. Note: as mentioned above, Excel allows "mimicing" this type of behaviour but is not intrinsically designed to provide it.
C6: Data Model | D6: Flat Data Table: Uses a simple, flat data model with no relationships. Database: Uses a relational data model, allowing complex relationships between tables (in the context of Excel mostly through lookup and reference formulae).
C7: Data Access | D7: Flat Data Table: Accessed through simple file I/O operations: In the case of Excel by entering data in cells of the table (although a "Form" command is available for data access if Table is used instead of a traditional range). Database: In Excel context, mostly aggregation tools (formulae, pivot tables, Power Query, ...) are used to access or visualise the data.
C8: Performance | D8: Flat Data Table: Calculations can be slow with large datasets, mostly due to repetitive information or calculation logic not taking advantage of relational structures. Note: in modern Excel running on even average hard ware, performance is rarely an issue. A dataset is often not even considered "large" in Excel terms if less than 100 000 lines are included in the table. Database: By avoiding repetitive information and designing well-thought-through formulae (lookup or aggregation), this is typically much faster, especially when working with large datasets.
C9: Scalability | D9: Flat Data Table: Limited scalability, not well-suited for large datasets or concurrent access. In Excel specifically, the worksheet limitations (16'384 columns, 1'048'576 rows) can present issues. Database: Highly scalable, capable of handling large amounts of data and multiple users. In the case of Excel, using external data sources (e.g. with Power Query) or distributing individual related tables over different worksheets can overcome many of the worksheet limitations.
C10: Security | D10: Flat Data Table: Limited built-in security features. Database: For DBMS's: Provide robust security features like user accounts, permissions, and automatic back-ups. Note: In the context of Excel, the intrinsic security possibilities are similar for Flat Data Tables and for Databases. In the case of Database, some additional protections can be configured using the intrinsic functionality, by designing the structure of the data sources and the worksheets adequately. When accessing external data sources, additional security possibillities may become available depending on the access control mechanisms of those external data sources.
B12: NL | C12: Wat is een "databank"?
B13: Verschil tussen een Platte gegevenstabel en een Databank
C14: Structuur | D14: Platte gegevenstabel: Bevat één tabel met rijen en kolommen, vaak opgeslagen in CSV-bestanden, Excel-werkbladbereiken of -tabellen, MS-lijsten, enz. Databank: Bestaat uit meerdere tabellen met rijen en kolommen, georganiseerd in een gestructureerde indeling met relaties tussen tabellen. Elke rij in een van deze tabellen wordt vaak een "record" genoemd, elke kolom is meestal een "veld" (waarbij de kolomtitel de veldnaam is). In Excel worden de relaties tussen tabellen meestal bepaald met behulp van formules.
C15: Gegevensintegriteit | D15: Platte gegevenstabel: Mist ingebouwde mechanismen voor het afdwingen van gegevensintegriteit. Opmerking: Excel biedt wel mogelijkheden voor gegevensvalidatie en (voorwaardelijke) opmaakconfiguratieopties om dit type afgedwongen gegevensintegriteit na te bootsen. Databank: Dwingt gegevensintegriteit af via primaire en externe sleutels, wat zorgt voor consistente en nauwkeurige gegevens. Opmerking: Zoals hierboven vermeld, staat Excel het nabootsen van dit type gedrag toe, maar is het hier niet intrinsiek voor ontworpen.
C16: Gegevensmodel | D16: Platte gegevenstabel: Gebruikt een eenvoudig, plat datamodel zonder relaties. Databank: Gebruikt een relationeel datamodel, waardoor complexe relaties tussen tabellen mogelijk zijn (in de context van Excel meestal via opzoek- en referentieformules). Vaak wordt hier gesproken over dimensies- en feitentabellen.
C17: Toegang | D17: Platte gegevenstabel: Toegankelijk via eenvoudige bestands-I/O-bewerkingen: in Excel door gegevens in te voeren in cellen van de tabel (hoewel een "Formulier"-opdracht beschikbaar is voor gegevenstoegang als Tabel wordt gebruikt in plaats van een traditioneel bereik). In Excel-context worden meestal aggregatietools (formules, draaitabellen, Power Query, ...) gebruikt om toegang te krijgen tot de gegevens of deze te visualiseren. Databank: De gegevens zijn enkel toegankelijk via specifieke formulieren en een gewone gebruiker kan niet direct interageren met de dataopslag als geheel. Het kan enkel record per record. Om dit te omzeilen kunnen er exports worden gemaakt waarin de wijzigingen met Excel worden doorgevoerd en dan vervolgens opnieuw geimporteerd in de database.
C18: Prestaties | D18: Platte gegevenstabel: Berekeningen kunnen traag zijn met grote datasets, meestal vanwege repetitieve informatie of rekenlogica die geen gebruikmaakt van relationele structuren. Opmerking: in moderne Excel, zelfs op gemiddelde hardware, is de prestatie zelden een probleem. Een dataset wordt in Excel-termen vaak niet eens als "groot" beschouwd als er minder dan 100.000 regels in de tabel staan. Databank: Door repetitieve informatie te vermijden en goed doordachte formules te ontwerpen (opzoeken of aggregeren), gaat dit doorgaans veel sneller, vooral bij het werken met grote datasets.
C19: Schaalbaarheid | D19: Platte gegevenstabel: Beperkte schaalbaarheid, niet erg geschikt voor grote datasets of gelijktijdige toegang. Met name in Excel kunnen de beperkingen van het werkblad (16'384 kolommen, 1'048'576 rijen) problemen opleveren. Databank: Zeer schaalbaar, geschikt voor grote hoeveelheden data en meerdere gebruikers. In Excel kunnen veel van de beperkingen van het werkblad worden ondervangen door externe gegevensbronnen te gebruiken (bijvoorbeeld met Power Query) of door afzonderlijke, gerelateerde tabellen over verschillende werkbladen te verdelen.
C20: Beveiliging | D20: Platte gegevenstabel: Beperkte ingebouwde beveiligingsfuncties. Databank: Voor DBMS'en: Biedt robuuste beveiligingsfuncties zoals gebruikersaccounts, machtigingen en automatische back-ups. Opmerking: In de context van Excel zijn de intrinsieke beveiligingsmogelijkheden voor Flat Data Tables en databanks vergelijkbaar. In het geval van databanks kunnen aanvullende beveiligingen worden geconfigureerd met behulp van de intrinsieke functionaliteit, door de structuur van de gegevensbronnen en de werkbladen adequaat te ontwerpen. Bij toegang tot externe gegevensbronnen kunnen extra beveiligingsmogelijkheden beschikbaar komen, afhankelijk van de toegangscontrolemechanismen van die externe gegevensbronnen.
B22: FR | C22: Qu'es-ce une "Base de données"?
B23: Difference between a Flat Data Table and a Database
C24: Structure | D24: Tableau de données plat : Contient un seul tableau avec des lignes et des colonnes, souvent stocké dans des fichiers CSV, des plages ou des tableaux Excel, des listes MS, etc. Base de données : Se compose de plusieurs tableaux avec des lignes et des colonnes organisées selon un format structuré, avec des relations entre les tableaux. Chaque ligne de ces tableaux est souvent appelée « enregistrement », chaque colonne étant généralement un « champ » (le titre de la colonne étant le nom du champ). Dans Excel, les relations entre les tableaux sont généralement établies par des formules.
C25: Intégrité des données | D25: Tableau de données plat : Absence de mécanismes intégrés pour garantir l'intégrité des données. Remarque : Excel offre des possibilités de validation des données ainsi que des options de configuration de formatage (conditionnel) pour « imiter » ce type d'intégrité des données imposée. Base de données : Assure l'intégrité des données via des clés primaires et étrangères, garantissant ainsi la cohérence et l'exactitude des données. Remarque : comme mentionné précédemment, Excel permet d'« imiter » ce type de comportement, mais n'est pas conçu pour le faire.
C26: Modèle de données | D26: Tableau de données plat : Utilise un modèle de données simple et plat, sans relations. Base de données : Utilise un modèle de données relationnel, permettant des relations complexes entre les tableaux (dans le contexte d'Excel, principalement via des formules de recherche et de référence).
C27: Accès | D27: Tableau de données plat : Accès par de simples opérations d'entrée/sortie de fichier : dans Excel, en saisissant des données dans les cellules du tableau (une commande « Formulaire » est toutefois disponible pour accéder aux données si un tableau est utilisé à la place d'une plage traditionnelle). Base de données : Dans Excel, ce sont principalement des outils d'agrégation (formules, tableaux croisés dynamiques, Power Query, etc.) qui sont utilisés pour accéder aux données ou les visualiser.
C28: Performance | D28: Tableau de données plat : Les calculs peuvent être lents avec des ensembles de données volumineux, principalement en raison d'informations répétitives ou d'une logique de calcul ne tirant pas pleinement parti des structures relationnelles. Remarque : dans Excel moderne, même sur un matériel standard, les performances sont rarement un problème. Un ensemble de données n'est souvent pas considéré comme « volumineux » au sens d'Excel s'il contient moins de 100 000 lignes. Base de données : En évitant les informations répétitives et en concevant des formules bien pensées (recherche ou agrégation), le traitement est généralement beaucoup plus rapide, surtout avec des ensembles de données volumineux.
C29: Extensibilité | D29: Tableau de données plate : Évolutivité limitée, inadaptée aux grands ensembles de données ou aux accès simultanés. Dans Excel en particulier, les limitations des feuilles de calcul (16'384 colonnes, 1'048'576 lignes) peuvent poser problème. Base de données : Haute évolutivité, capable de gérer de grandes quantités de données et plusieurs utilisateurs. Dans Excel, l'utilisation de sources de données externes (par exemple, avec Power Query) ou la répartition de tables liées entre elles sur différentes feuilles de calcul permettent de surmonter de nombreuses limitations.
C30: Sécurité | D30: Tableau de données plates : Fonctionnalités de sécurité intégrées limitées. Base de données : Pour les SGBD : Offre des fonctionnalités de sécurité robustes telles que les comptes utilisateurs, les autorisations et les sauvegardes automatiques. Remarque : Dans le contexte d'Excel, les possibilités de sécurité intrinsèque sont similaires pour les tableaux de données plates et les bases de données. Dans le cas des bases de données, des protections supplémentaires peuvent être configurées à l'aide des fonctionnalités intrinsèques, en concevant correctement la structure des sources de données et des feuilles de calcul. Lors de l'accès à des sources de données externes, des possibilités de sécurité supplémentaires peuvent être disponibles en fonction des mécanismes de contrôle d'accès de ces sources.

Sheet Een lijst is geen tabel
B1: Laat ons de beiden even naast elkaar leggen….
B3: Lijst | I3: Tabel
B5: Date | C5: Article | D5: Customer | E5: Sales Rep | F5: Net Sales | G5: Region | I5: Date | J5: Article | K5: Customer | L5: Sales Rep | M5: Net Sales | N5: Region
B6: 43222 | C6: Flowers | D6: Henschel | E6: Amy | F6: 1029 | G6: West | I6: 43222 | J6: Flowers | K6: Henschel | L6: Amy | M6: 1029 | N6: West
B7: 43223 | C7: Paper for copier | D7: Office Shop | E7: Philip | F7: 1392 | G7: West | I7: 43223 | J7: Paper for copier | K7: Office Shop | L7: Philip | M7: 1392 | N7: West
B8: 43223 | C8: Quick Menus | D8: Quick Menu | E8: Philip | F8: 19360 | G8: North | I8: 43223 | J8: Quick Menus | K8: Quick Menu | L8: Philip | M8: 19360 | N8: North
B9: 43224 | C9: Coffee, milk | D9: Team Select | E9: Amy | F9: 2783 | G9: South | I9: 43224 | J9: Coffee, milk | K9: Team Select | L9: Amy | M9: 2783 | N9: South
B10: 43225 | C10: Cables | D10: Electronics | E10: Tom | F10: 290 | G10: East | I10: 43225 | J10: Cables | K10: Electronics | L10: Tom | M10: 290 | N10: East
B11: 43225 | C11: Toner | D11: Electronics | E11: Alex | F11: 2239 | G11: West | I11: 43225 | J11: Toner | K11: Electronics | L11: Alex | M11: 2239 | N11: West
B12: 43226 | C12: Calendars | D12: Time | E12: Amy | F12: 1162 | G12: North | I12: 43226 | J12: Calendars | K12: Time | L12: Amy | M12: 1162 | N12: North
B13: 43226 | C13: Calendars | D13: Time | E13: Amy | F13: 1271 | G13: West | I13: 43226 | J13: Calendars | K13: Time | L13: Amy | M13: 1271 | N13: West
B14: 43226 | C14: Folio and labels | D14: Office Shop | E14: Alex | F14: 5239 | G14: North | I14: 43226 | J14: Folio and labels | K14: Office Shop | L14: Alex | M14: 5239 | N14: North
B15: 42861 | C15: Calendars | D15: Time | E15: Alex | F15: 12705 | G15: West | I15: 42861 | J15: Calendars | K15: Time | L15: Alex | M15: 12705 | N15: West
B16: 42864 | C16: Cleaner for copier | D16: Electronics | E16: Philip | F16: 1936 | G16: West | I16: 42864 | J16: Cleaner for copier | K16: Electronics | L16: Philip | M16: 1936 | N16: West
B17: 42864 | C17: Flowers + plants | D17: Henschel | E17: Amy | F17: 3182 | G17: North | I17: 42864 | J17: Flowers + plants | K17: Henschel | L17: Amy | M17: 3182 | N17: North
... B49: 44746 | C49: Flowers | D49: Henschel | E49: Amy | F49: 6852 | G49: North | I49: 44746 | J49: Flowers | K49: Henschel | L49: Amy | M49: 6852 | N49: North

Sheet Table vs range
A1: ←
B2: EN | C2: Table vs range
B3: Tables
C4: 1 | D4: Often the words "range" and "table" are used interchangeably when talking about Excel files. However, Excel has the ability to transform a cell range into a "Table" which makes a number of additional / other Excel functionalities available. We therefore make the distinction between "table" and "Table" ...
C5: 2 | D5: With a Table you can sort and filter more easily, and you also have to worry much less about formatting and entering formulas when additional data is added. A few "rules" before you start with this: - Good preparation saves a lot of time later. - Think in detail about how you want to organize your data in order to gain as much time and flexibility as possible later. - Use concise but meaningful column headings. Each column must have a heading (empty header cells are filled in with a standard title by Excel). - Avoid using merged cells. - Give the Table a name that you can easily work with later (good practice is to start the name with, for example, Tbl).
C6: 3 | D6: Although formulas are generally more readable (see exercise below), composing them is less obvious if you want to do so by typing the formula directly. Therefore, use the mouse pointer as much as possible to indicate the desired ranges when building a formula.
C7: 4 | D7: Some Excel options are not available if the workbook contains one or more Tables (for example Conditional View - Custom Views). However, these are usually options that are rarely used anyway. When using some functions (for example SUBTOTAL - SUBTOTAL), it is best to use other values ​​for certain arguments in a Table. For example, the first argument of SUBTOTAL for calculating a sum is the classic "9". However, this does still include rows that are hidden by methods other than Autofilter. In a Table, you therefore add 100 to the first argument of SUBTOTAL each time to obtain the correct result (see exercise below).
C8: 5 | D8: Add Input Form to Quick Access Toolbar - File - Options and then Quick Access Toolbar - Search for Form… - Click Add
B10: Exercises
C11: 1 | D11: Convert the range in columns B through H in worksheet "Sample data" to Table. Give the Table a name (for example "TblCensus2011")
C12: 2 | D12: Freeze the Table titles (first row)
C13: 3 | D13: Choose a table formatting style with dark blue headings and white-blue striped rows
C14: 4 | D14: Provide a total row at the bottom of the table, with a calculated total in the "Count" column
C15: 5 | D15: Enable slicers for all columns except "Count"
C16: 6 | D16: Provide enough empty rows ABOVE to neatly arrange the slicers
C17: 7 | D17: Experiment with the slicers to see how they make filtering more visual and easier
C18: 8 | D18: Add a new column to the far right of the Table ("Relative to place of residence")
C19: 9 | D19: In the first free cell of the new column, add a formula that divides the number by the sum of all the numbers for the residence in question and format the cell as a percentage with 1 decimal place. Tip: in the denominator, use the SUMIF function To see the correct formula, change the font color in the cells below
D20: Formula
D21: =[@People]/SUMIF([Municipality],[@Municipality],[People])
C22: 10 | D22: Use the input form to add a data (row) : - Province: Noord-Brabant - Arrondissement: Leuven - Municipality: Bommerskonten - Gender: Binair - Nationality: Belg - Category: Volgt onderwijs - Count: 4
B24: NL | C24: Tabel vs bereik
B25: Tabellen
C26: 1 | D26: Vaak worden de woorden "celbereik" ("range") en "tabel" ("table") door elkaar gebruikt wanneer over excelbestanden gesproken wordt. Excel heeft echter de mogelijkheid om een celbereik om te vormen tot een "Tabel" ("Table") waarmee een aantal bijkomende / andere functionaliteiten van Excel beschikbaar gemaakt worden. We maken daarom hier het onderscheid tussen "tabel" en "Tabel" ...
C27: 2 | D27: Met een Tabel kan je gemakkelijker sorteren en filteren, en hoef je je ook veel minder bezig te houden met opmaak en met het doorvoeren van formules als er bijkomende gegevens worden toegevoegd. Enkele "regels" alvorens je hiermee begint: - Een goede voorbereiding spaart achteraf veel tijd. - Bedenk in detail hoe je jouw gegevens wil organiseren om daar achteraf zoveel mogelijk tijdswinst en flexibiliteit uit te halen. - Gebruik beknopte maar betekenisvolle kolomhoofdingen. Iedere kolom moet een hoofding hebben (lege hoofdingcellen worden met een standaard-titel ingevuld door Excel). - Vermijd het gebruik van samengevoegde cellen. - Geef de Tabel een naam waar je achteraf gemakkelijk mee kan werken (goede praktijk is om die naam te laten beginnen met bijvoorbeeld Tbl).
C28: 3 | D28: Alhoewel formules over het algemeen leesbaarder zijn (zie oefening hieronder), is het samenstellen van die formules minder evident als je dat wil doen door de formule rechtstreeks in te tikken. Gebruik daarom zoveel mogelijk de muisaanwijzer om bij het bouwen van een formule de gewenste bereiken aan te duiden.
C29: 4 | D29: Sommige mogelijkheden van Excel zijn niet beschikbaar als er zich in de werkmap een of meerdere Tabellen bevinden (bijvoorbeeld Voorwaardelijke weergave - Custom Views). Meestal gaat het dan echter om mogelijkheden die sowieso heel weinig gebruikt worden. Bij het gebruik van sommige functies (bijvoorbeeld SUBTOTAAL - SUBTOTAL) wordt in een Tabel best gebruik gemaakt van andere waarden voor bepaalde argumenten. Zo is bijvoorbeeld het eerste argument van SUBTOTAAL voor het berekenen van een som klassiek "9". Daarmee worden echter rijen die verborgen worden door andere manieren dan Autofilter WEL nog meegerekend. In een Tabel tel je daarom bij het eerste argument van SUBTOTAAL telkens 100 bij om het juiste resultaat te bekomen (zie oefening hieronder).
C30: 5 | D30: Invoerformulier toevoegen aan de Werkbalk Snelle Toegang (Quick Access Toolbar) - Bestand - Opties (Home - Options)en dan Werkbalk Snelle toegang (Quick Access Toolbar) - Zoek opdracht Formulier… (Form…) - Klik op Toevoegen (Add)
B32: Oefeningen
C33: 1 | D33: Converteer het bereik in kolommen B tot en met H in werkblad "Source Data" tot Tabel. Geef de Tabel een naam (bijvoorbeeld "tblVolkstelling2011")
C34: 2 | D34: Blokkeer de titels van de Tabel (eerste rijen)
C35: 3 | D35: Kies een tabelopmaakstijl met donkerblauwe hoofdingen en wit-blauw gestreepte rijen
C36: 4 | D36: Zorg voor een totaalrij onderaan de tabel, met een berekend totaal in de kolom "Count"
C37: 5 | D37: Activeer slicers voor alle kolommen behalve "Count"
C38: 6 | D38: Voorzie BOVEN de voldoende lege rijen om de slicers keurig te kunnen schikken
C39: 7 | D39: Experimenteer met de slicers om te zien hoe zij het filteren aanschouwelijker en gemakkelijker maken
C40: 8 | D40: Voeg helemaal rechts een nieuwe kolom bij de Tabel ("Relatief tov verblijfplaats")
C41: 9 | D41: Voeg in de eerste vrije cel van de nieuwe kolom een formule toe die het aantal deelt door de som van alle aantallen voor de verblijfsplaats in kwestie en maak de cel op als percentage met 1 cijfer na de komma. Tip: in de noemer gebruik je de functie SOM.ALS (SUMIF) Om de juiste formule te zien, verander de kleur van het lettertype in de cellen hieronder
D42: Formule (NL) | I42: Formule (EN)
D43: =[@People]/SOM.ALS([Municipality];[@Municipality];[People]) | I43: =[@People]/SUMIF([Municipality];[@Municipality];[People])
...

Sheet Structuur van een Exceldatabase
B1: Kenmerken van een Excel-bestand dat we als database gebruiken
B4: We gebruiken tabellen | C4: Elke kolom heeft slechts 1 hoofding
B5: Data is consistent en gevalideerd | C5: Een gebruiker kan niet invullen wat die wil. We beveiligen met datavalidatie/voorwaardelijke opmaak/dropdowns.
B6: Verbanden tussen verschillende tabellen worden gelegd via "relaties" of "sleutels". | C6: Primaire sleutels zijn unieke gegevens. Bvb indien het rijksregister een Excel-tabel zou zijn zou de kolom RRN geen 2 rijen KUNNEN bevatten met RRN 123456.78945
B7: Relaties worden gelegd via het datamodel of door data samen te brengen naar 1 enkele tabel (via lookup-formules of PowerQuery) | C7: Daarvoor bekijken we waar dimensies zijn en waar er feiten zijn en hoe ze zich verhouden tot elkaar.

Sheet Vastgoedportefeuille
A1: Met de gegevens in deze sheet kunnen we wat we leren verder in praktijk omzetten
B3: PandID | C3: Type pand | D3: Provincie | E3: Gemeente | F3: Postcode | G3: Straat | H3: Huisnr | I3: Bus | J3: Adres volledig | K3: Eigenaar naam | L3: Eigenaar e-mail | M3: Eigenaar telefoon | N3: Eigenaar IBAN | O3: Huurder naam | P3: Huurder e-mail | Q3: Huurder telefoon | R3: Huurder IBAN | S3: Huurcontract nr | T3: Start huurcontract | U3: Einde huurcontract | V3: Status | W3: Maandhuur | X3: Waarborg | Y3: EPC-label | Z3: Bouwjaar | AA3: Oppervlakte m² | AB3: Slaapkamers | AC3: Parkeerplaats | AD3: Elektriciteit EAN | AE3: Elektriciteit contractnr | AF3: Water contractnr | AG3: Verwarming | AH3: Laatste indexatie | AI3: Indexatie frequentie | AJ3: Syndicus | AK3: Opmerking
B4: P-0001 | C4: Handelspand | D4: Antwerpen | E4: Turnhout | F4: 2300 | G4: Markt | H4: 14 | I4: 1 | J4: Markt 14 bus 1, 2300 Turnhout | K4: Peter Willems | L4: peter.willems@eigenaar.example | M4: 0413 17 31 43 | N4: BE17 1037 0193 0911 | O4: Jeroen Goossens | P4: jeroen.goossens@huurder.example | Q4: 0413 17 31 43 | R4: BE70 12137 8093 4211 | S4: HC-2021-0001 | T4: 44355 | V4: Verhuurd | W4: 1241 | X4: 3723 | Y4: C | Z4: 1962 | AA4: 77 | AB4: 0 | AC4: Nee | AD4: 5.4144e+16 | AE4: EL-450137 | AF4: WA-230083 | AG4: Stookolie | AH4: 45691 | AI4: Jaarlijks | AJ4: ImmoBeheer Antwerpen
B5: P-0002 | C5: Kantoor | D5: Antwerpen | E5: Geel | F5: 2440 | G5: Parklaan | H5: 27 | I5: 101 | J5: Parklaan 27 bus 0101, 2440 Geel | K5: Koen Vermeulen | L5: koen.vermeulen@eigenaar.example | M5: 0416 34 62 86 | N5: BE24 1074 0386 1822 | O5: Eva Martens | P5: eva.martens@huurder.example | Q5: 0416 34 62 86 | R5: BE77 12174 8286 5122 | S5: HC-2022-0002 | T5: 44880 | V5: Verhuurd | W5: 924 | X5: 2772 | Y5: E | Z5: 1969 | AA5: 73 | AB5: 0 | AC5: Nee | AD5: 5.4144e+16 | AE5: EL-450274 | AF5: WA-230166 | AG5: Elektrisch | AH5: 45721 | AI5: 3-Jaarlijks | AJ5: ImmoBeheer Antwerpen
B6: P-0003 | C6: Magazijn | D6: Antwerpen | E6: Brasschaat | F6: 2930 | G6: Kerkstraat | H6: 40 | I6: A | J6: Kerkstraat 40 bus A, 2930 Brasschaat | K6: Marc Michiels | L6: marc.michiels@eigenaar.example | M6: 0419 51 93 29 | N6: BE31 1111 0579 2733 | O6: Julie Jacobs | P6: julie.jacobs@huurder.example | Q6: 0419 51 93 29 | R6: BE84 12211 8479 6033 | S6: HC-2023-0003 | T6: 45038 | V6: Verhuurd | W6: 1037 | X6: 3111 | Y6: A | Z6: 1976 | AA6: 159 | AB6: 0 | AC6: Nee | AD6: 5.4144e+16 | AE6: EL-450411 | AF6: WA-230249 | AG6: Collectieve verwarming | AH6: 45754 | AI6: Jaarlijks | AJ6: ImmoBeheer Antwerpen
B7: P-0004 | C7: Studio | D7: Antwerpen | E7: Willebroek | F7: 2830 | G7: Lindenlaan | H7: 53 | I7: 2 | J7: Lindenlaan 53 bus 2, 2830 Willebroek | K7: Tom Maes | L7: tom.maes@eigenaar.example | M7: 0422 68 24 72 | N7: BE38 1148 0772 3644 | O7: Sarah Vermeulen | P7: sarah.vermeulen@huurder.example | Q7: 0422 68 24 72 | R7: BE02 12248 8672 6944 | S7: HC-2024-0004 | T7: 45539 | V7: Verhuurd | W7: 588 | X7: 1764 | Y7: C | Z7: 1983 | AA7: 89 | AB7: 3 | AC7: Ja | AD7: 5.4144e+16 | AE7: EL-450548 | AF7: WA-230332 | AG7: Warmtepomp | AH7: 45786 | AI7: Jaarlijks | AJ7: ImmoBeheer Antwerpen
B8: P-0005 | C8: Woning | D8: Antwerpen | E8: Duffel | F8: 2570 | G8: Dokter Jacobsstraat | H8: 66 | I8: 202 | J8: Dokter Jacobsstraat 66 bus 0202, 2570 Duffel | K8: Dirk Goossens | L8: dirk.goossens@eigenaar.example | M8: 0425 85 55 15 | N8: BE45 1185 0965 4555 | O8: Yassin Hermans | P8: yassin.hermans@huurder.example | Q8: 0425 85 55 15 | R8: BE09 12285 8865 7855 | S8: HC-2025-0005 | T8: 45699 | U8: 46794 | V8: Verhuurd | W8: 1145 | X8: 3435 | Y8: E | Z8: 1990 | AA8: 100 | AB8: 1 | AC8: Nee | AD8: 5.4144e+16 | AE8: EL-450685 | AF8: WA-230415 | AG8: Gas individueel | AH8: 45819 | AI8: Jaarlijks | AJ8: ImmoBeheer Antwerpen
B9: P-0006 | C9: Duplex | D9: Antwerpen | E9: Wijnegem | F9: 2110 | G9: Molenstraat | H9: 79 | I9: B | J9: Molenstraat 79 bus B, 2110 Wijnegem | K9: Hilde Van den Broeck | L9: hilde.vandenbroeck@eigenaar.example | M9: 0428 02 86 58 | N9: BE52 1222 1158 5466 | O9: Samira Claes | P9: samira.claes@huurder.example | Q9: 0428 02 86 58 | R9: BE16 12322 9058 8766 | S9: HC-2020-0006 | T9: 44030 | V9: Verhuurd | W9: 1136 | X9: 3408 | Y9: A | Z9: 1997 | AA9: 111 | AB9: 4 | AC9: Nee | AD9: 5.4144e+16 | AE9: EL-450822 | AF9: WA-230498 | AG9: Stookolie | AH9: 45851 | AI9: Jaarlijks | AJ9: ImmoBeheer Antwerpen
B10: P-0007 | C10: Garage | D10: Antwerpen | E10: Mechelen | F10: 2800 | G10: Beukenlaan | H10: 92 | I10: 3 | J10: Beukenlaan 92 bus 3, 2800 Mechelen | K10: Leen Hermans | L10: leen.hermans@eigenaar.example | M10: 0401 19 17 01 | N10: BE59 1259 1351 6377 | O10: Fatima Hendrickx | P10: fatima.hendrickx@huurder.example | Q10: 0401 19 17 01 | R10: BE23 12359 9251 9677 | S10: HC-2021-0007 | T10: 44555 | V10: Verhuurd | W10: 152 | X10: 456 | Y10: C | Z10: 2004 | AA10: 23 | AB10: 0 | AC10: Ja | AD10: 5.4144e+16 | AE10: EL-450959 | AF10: WA-230581 | AG10: Elektrisch | AH10: 45884 | AI10: Jaarlijks | AJ10: ImmoBeheer Antwerpen
B11: P-0008 | C11: Appartement | D11: Antwerpen | E11: Herentals | F11: 2200 | G11: Begijnhofstraat | H11: 105 | J11: Begijnhofstraat 105, 2200 Herentals | K11: Els Mertens | L11: els.mertens@eigenaar.example | M11: 0404 36 48 44 | N11: BE66 1296 1544 7288 | O11: Amina Maes | P11: amina.maes@huurder.example | Q11: 0404 36 48 44 | R11: BE30 12396 9444 0588 | S11: HC-2022-0008 | T11: 44688 | V11: Verhuurd | W11: 904 | X11: 2712 | Y11: E | Z11: 2011 | AA11: 133 | AB11: 5 | AC11: Ja | AD11: 5.4144e+16 | AE11: EL-451096 | AF11: WA-230664 | AG11: Collectieve verwarming | AH11: 45917 | AI11: Jaarlijks | AJ11: ImmoBeheer Antwerpen
B12: P-0009 | C12: Handelspand | D12: Antwerpen | E12: Boom | F12: 2850 | G12: Schoolstraat | H12: 118 | I12: 1 | J12: Schoolstraat 118 bus 1, 2850 Boom | K12: An De Smet | L12: an.desmet@eigenaar.example | M12: 0407 53 79 87 | N12: BE73 1333 1737 8199 | O12: Bram De Smet | P12: bram.desmet@huurder.example | Q12: 0407 53 79 87 | R12: BE37 12433 9637 1499 | S12: HC-2023-0009 | T12: 45213 | V12: Verhuurd | W12: 1569 | X12: 4707 | Y12: A | Z12: 2018 | AA12: 133 | AB12: 0 | AC12: Nee | AD12: 5.4144e+16 | AE12: EL-451233 | AF12: WA-230747 | AG12: Warmtepomp | AH12: 45949 | AI12: 3-Jaarlijks | AJ12: ImmoBeheer Antwerpen
B13: P-0010 | C13: Kantoor | D13: Antwerpen | E13: Schoten | F13: 2900 | G13: Turnhoutsebaan | H13: 131 | I13: 101 | J13: Turnhoutsebaan 131 bus 0101, 2900 Schoten | K13: Sofie Martens | L13: sofie.martens@eigenaar.example | M13: 0410 70 10 30 | N13: BE80 1370 1930 9110 | O13: Jeroen Aerts | P13: jeroen.aerts@huurder.example | Q13: 0410 70 10 30 | R13: BE44 12470 9830 2410 | S13: HC-2024-0010 | T13: 45372 | U13: 46467 | V13: Verhuurd | W13: 1220 | X13: 3660 | Y13: C | Z13: 1956 | AA13: 145 | AB13: 0 | AC13: Nee | AD13: 5.4144e+16 | AE13: EL-451370 | AF13: WA-230830 | AG13: Gas individueel | AH13: 45982 | AI13: Jaarlijks | AJ13: ImmoBeheer Antwerpen
B14: P-0011 | C14: Magazijn | D14: Antwerpen | E14: Heist-op-den-Berg | F14: 2220 | G14: Ringlaan | H14: 144 | I14: A | J14: Ringlaan 144 bus A, 2220 Heist-op-den-Berg | K14: Nathalie Janssens | L14: nathalie.janssens@eigenaar.example | M14: 0413 87 41 73 | N14: BE87 1407 2123 0021 | O14: Eva Willems | P14: eva.willems@huurder.example | Q14: 0413 87 41 73 | R14: BE51 12507 0023 3321 | S14: HC-2025-0011 | T14: 45872 | V14: Verhuurd | W14: 1269 | X14: 3807 | Y14: E | Z14: 1963 | AA14: 263 | AB14: 0 | AC14: Nee | AD14: 5.4144e+16 | AE14: EL-451507 | AF14: WA-230913 | AG14: Stookolie | AH14: 46014 | AI14: Jaarlijks | AJ14: ImmoBeheer Antwerpen
B15: P-0012 | C15: Studio | D15: Antwerpen | E15: Edegem | F15: 2650 | G15: Nieuwstraat | H15: 157 | I15: 2 | J15: Nieuwstraat 157 bus 2, 2650 Edegem | K15: Inge Claes | L15: inge.claes@eigenaar.example | M15: 0416 04 72 16 | N15: BE05 1444 2316 0932 | O15: Julie Van den Broeck | P15: julie.vandenbroeck@huurder.example | Q15: 0416 04 72 16 | R15: BE58 12544 0216 4232 | S15: HC-2020-0012 | T15: 43840 | V15: Verhuurd | W15: 724 | X15: 2172 | Y15: A | Z15: 1970 | AA15: 177 | AB15: 2 | AC15: Ja | AD15: 5.4144e+16 | AE15: EL-451644 | AF15: WA-230996 | AG15: Elektrisch | AH15: 45682 | AI15: Jaarlijks | AJ15: ImmoBeheer Antwerpen
B16: P-0013 | C16: Woning | D16: Antwerpen | E16: Zandhoven | F16: 2240 | G16: Mechelsesteenweg | H16: 170 | I16: 202 | J16: Mechelsesteenweg 170 bus 0202, 2240 Zandhoven | K16: Katrien Lemmens | L16: katrien.lemmens@eigenaar.example | M16: 0419 21 03 59 | N16: BE12 1481 2509 1843 | O16: Sarah Janssens | P16: sarah.janssens@huurder.example | Q16: 0419 21 03 59 | R16: BE65 12581 0409 5143 | S16: HC-2021-0013 | T16: 44364 | V16: Verhuurd | W16: 1297 | X16: 3891 | Y16: C | Z16: 1977 | AA16: 188 | AB16: 5 | AC16: Nee | AD16: 5.4144e+16 | AE16: EL-451781 | AF16: WA-231079 | AG16: Collectieve verwarming | AH16: 45690 | AI16: Jaarlijks | AJ16: ImmoBeheer Antwerpen
B17: P-0014 | C17: Duplex | D17: Antwerpen | E17: Lier | F17: 2500 | G17: Havenweg | H17: 183 | I17: B | J17: Havenweg 183 bus B, 2500 Lier | K17: Wim Aerts | L17: wim.aerts@eigenaar.example | M17: 0422 38 34 02 | N17: BE19 1518 2702 2754 | O17: Yassin Wouters | P17: yassin.wouters@huurder.example | Q17: 0422 38 34 02 | R17: BE72 12618 0602 6054 | S17: HC-2022-0014 | T17: 44889 | V17: Verhuurd | W17: 1384 | X17: 4152 | Y17: E | Z17: 1984 | AA17: 199 | AB17: 3 | AC17: Nee | AD17: 5.4144e+16 | AE17: EL-451918 | AF17: WA-231162 | AG17: Warmtepomp | AH17: 45720 | AI17: Jaarlijks | AJ17: ImmoBeheer Antwerpen
B18: P-0015 | C18: Garage | D18: Antwerpen | E18: Mol | F18: 2400 | G18: Kapellestraat | H18: 10 | I18: 3 | J18: Kapellestraat 10 bus 3, 2400 Mol | K18: Jan Jacobs | L18: jan.jacobs@eigenaar.example | M18: 0425 55 65 45 | N18: BE26 1555 2895 3665 | O18: Samira Michiels | P18: samira.michiels@huurder.example | Q18: 0425 55 65 45 | R18: BE79 12655 0795 6965 | S18: HC-2023-0015 | T18: 45022 | U18: 46118 | V18: Verhuurd | W18: 110 | X18: 330 | Y18: A | Z18: 1991 | AA18: 31 | AB18: 0 | AC18: Ja | AD18: 5.4144e+16 | AE18: EL-452055 | AF18: WA-231245 | AG18: Gas individueel | AH18: 45753 | AI18: Jaarlijks | AJ18: ImmoBeheer Antwerpen
B19: P-0016 | C19: Appartement | D19: Antwerpen | E19: Kontich | F19: 2550 | G19: Antwerpsesteenweg | H19: 23 | J19: Antwerpsesteenweg 23, 2550 Kontich | K19: Peter Wouters | L19: peter.wouters@eigenaar.example | M19: 0428 72 96 88 | N19: BE33 1592 3088 4576 | O19: Fatima Mertens | P19: fatima.mertens@huurder.example | Q19: 0428 72 96 88 | R19: BE86 12692 0988 7876 | S19: HC-2024-0016 | T19: 45548 | V19: Verhuurd | W19: 1088 | X19: 3264 | Y19: C | Z19: 1998 | AA19: 221 | AB19: 4 | AC19: Ja | AD19: 5.4144e+16 | AE19: EL-452192 | AF19: WA-231328 | AG19: Stookolie | AH19: 45785 | AI19: Jaarlijks | AJ19: ImmoBeheer Antwerpen
B20: P-0017 | C20: Handelspand | D20: Antwerpen | E20: Mortsel | F20: 2640 | G20: Groenstraat | H20: 36 | I20: 1 | J20: Groenstraat 36 bus 1, 2640 Mortsel | K20: Koen Hendrickx | L20: koen.hendrickx@eigenaar.example | M20: 0401 89 27 31 | N20: BE40 1629 3281 5487 | S20: HC-2025-0017 | T20: 45708 | V20: Leegstand | W20: 1897 | X20: 5691 | Y20: E | Z20: 2005 | AA20: 189 | AB20: 0 | AC20: Nee | AD20: 5.4144e+16 | AE20: EL-452329 | AF20: WA-231411 | AG20: Elektrisch | AH20: 45818 | AI20: Jaarlijks | AJ20: ImmoBeheer Antwerpen
B21: P-0018 | C21: Kantoor | D21: Antwerpen | E21: Balen | F21: 2490 | G21: Industrieweg | H21: 49 | I21: 101 | J21: Industrieweg 49 bus 0101, 2490 Balen | K21: Marc Peeters | L21: marc.peeters@eigenaar.example | M21: 0404 06 58 74 | N21: BE47 1666 3474 6398 | O21: Bram Peeters | P21: bram.peeters@huurder.example | Q21: 0404 06 58 74 | R21: BE11 12766 1374 9698 | S21: HC-2020-0018 | T21: 44014 | V21: Verhuurd | W21: 1516 | X21: 4548 | Y21: A | Z21: 2012 | AA21: 217 | AB21: 0 | AC21: Nee | AD21: 5.4144e+16 | AE21: EL-452466 | AF21: WA-231494 | AG21: Collectieve verwarming | AH21: 45850 | AI21: Jaarlijks | AJ21: ImmoBeheer Antwerpen
B22: P-0019 | C22: Magazijn | D22: Antwerpen | E22: Ranst | F22: 2520 | G22: Veldstraat | H22: 62 | I22: A | J22: Veldstraat 62 bus A, 2520 Ranst | K22: Tom Willems | L22: tom.willems@eigenaar.example | M22: 0407 23 89 17 | N22: BE54 1703 3667 7309 | O22: Jeroen Goossens | P22: jeroen.goossens@huurder.example | Q22: 0407 23 89 17 | R22: BE18 12803 1567 0609 | S22: HC-2021-0019 | T22: 44539 | V22: Verhuurd | W22: 1501 | X22: 4503 | Y22: C | Z22: 2019 | AA22: 367 | AB22: 0 | AC22: Nee | AD22: 5.4144e+16 | AE22: EL-452603 | AF22: WA-231577 | AG22: Warmtepomp | AH22: 45883 | AI22: Jaarlijks | AJ22: ImmoBeheer Antwerpen | AK22: Indexatie na renovatie controleren
B23: P-0020 | C23: Studio | D23: Antwerpen | E23: Antwerpen | F23: 2000 | G23: Stationsstraat | H23: 75 | I23: 2 | J23: Stationsstraat 75 bus 2, 2000 Antwerpen | K23: Dirk Vermeulen | L23: dirk.vermeulen@eigenaar.example | M23: 0410 40 20 60 | N23: BE61 1740 3860 8220 | O23: Eva Martens | P23: eva.martens@huurder.example | Q23: 0410 40 20 60 | R23: BE25 12840 1760 1520 | S23: HC-2022-0020 | T23: 44697 | U23: 45793 | V23: Verhuurd | W23: 860 | X23: 2580 | Y23: E | Z23: 1957 | AA23: 80 | AB23: 1 | AC23: Ja | AD23: 5.4144e+16 | AE23: EL-452740 | AF23: WA-231660 | AG23: Gas individueel | AH23: 45916 | AI23: Jaarlijks | AJ23: ImmoBeheer Antwerpen
B24: P-0021 | C24: Woning | D24: Antwerpen | E24: Turnhout | F24: 2300 | G24: Markt | H24: 88 | I24: 202 | J24: Markt 88 bus 0202, 2300 Turnhout | K24: Hilde Michiels | L24: hilde.michiels@eigenaar.example | M24: 0413 57 51 03 | N24: BE68 1777 4053 9131 | O24: Julie Jacobs | P24: julie.jacobs@huurder.example | Q24: 0413 57 51 03 | R24: BE32 12877 1953 2431 | S24: HC-2023-0021 | T24: 45222 | V24: Verhuurd | W24: 1449 | X24: 4347 | Y24: A | Z24: 1964 | AA24: 91 | AB24: 4 | AC24: Nee | AD24: 5.4144e+16 | AE24: EL-452877 | AF24: WA-231743 | AG24: Stookolie | AH24: 45948 | AI24: Jaarlijks | AJ24: ImmoBeheer Antwerpen
B25: P-0022 | C25: Duplex | D25: Antwerpen | E25: Geel | F25: 2440 | G25: Parklaan | H25: 101 | I25: B | J25: Parklaan 101 bus B, 2440 Geel | K25: Leen Maes | L25: leen.maes@eigenaar.example | M25: 0416 74 82 46 | N25: BE75 1814 4246 0042 | O25: Sarah Vermeulen | P25: sarah.vermeulen@huurder.example | Q25: 0416 74 82 46 | R25: BE39 12914 2146 3342 | S25: HC-2024-0022 | T25: 45356 | V25: Verhuurd | W25: 1632 | X25: 4896 | Y25: C | Z25: 1971 | AA25: 102 | AB25: 2 | AC25: Nee | AD25: 5.4144e+16 | AE25: EL-453014 | AF25: WA-231826 | AG25: Elektrisch | AH25: 45981 | AI25: Jaarlijks | AJ25: ImmoBeheer Antwerpen
B26: P-0023 | C26: Garage | D26: Antwerpen | E26: Brasschaat | F26: 2930 | G26: Kerkstraat | H26: 114 | I26: 3 | J26: Kerkstraat 114 bus 3, 2930 Brasschaat | K26: Els Goossens | L26: els.goossens@eigenaar.example | M26: 0419 91 13 89 | N26: BE82 1851 4439 0953 | O26: Yassin Hermans | P26: yassin.hermans@huurder.example | Q26: 0419 91 13 89 | R26: BE46 12951 2339 4253 | S26: HC-2025-0023 | T26: 45881 | V26: In renovatie | W26: 198 | X26: 594 | Y26: E | Z26: 1978 | AA26: 21 | AB26: 0 | AC26: Ja | AD26: 5.4144e+16 | AE26: EL-453151 | AF26: WA-231909 | AG26: Collectieve verwarming | AH26: 46013 | AI26: Jaarlijks | AJ26: ImmoBeheer Antwerpen
B27: P-0024 | C27: Appartement | D27: Antwerpen | E27: Willebroek | F27: 2830 | G27: Lindenlaan | H27: 127 | J27: Lindenlaan 127, 2830 Willebroek | K27: An Van den Broeck | L27: an.vandenbroeck@eigenaar.example | M27: 0422 08 44 32 | N27: BE00 1888 4632 1864 | O27: Samira Claes | P27: samira.claes@huurder.example | Q27: 0422 08 44 32 | R27: BE53 12988 2532 5164 | S27: HC-2020-0024 | T27: 43849 | V27: Verhuurd | W27: 1272 | X27: 3816 | Y27: A | Z27: 1985 | AA27: 124 | AB27: 3 | AC27: Ja | AD27: 5.4144e+16 | AE27: EL-453288 | AF27: WA-231992 | AG27: Warmtepomp | AH27: 45681 | AI27: Jaarlijks | AJ27: ImmoBeheer Antwerpen
B28: P-0025 | C28: Handelspand | D28: Antwerpen | E28: Duffel | F28: 2570 | G28: Dokter Jacobsstraat | H28: 140 | I28: 1 | J28: Dokter Jacobsstraat 140 bus 1, 2570 Duffel | K28: Sofie Hermans | L28: sofie.hermans@eigenaar.example | M28: 0425 25 75 75 | N28: BE07 1925 4825 2775 | O28: Fatima Hendrickx | P28: fatima.hendrickx@huurder.example | Q28: 0425 25 75 75 | R28: BE60 13025 2725 6075 | S28: HC-2021-0025 | T28: 44348 | U28: 45444 | V28: Verhuurd | W28: 2225 | X28: 6675 | Y28: C | Z28: 1992 | AA28: 245 | AB28: 0 | AC28: Nee | AD28: 5.4144e+16 | AE28: EL-453425 | AF28: WA-232075 | AG28: Gas individueel | AH28: 45689 | AI28: Jaarlijks | AJ28: ImmoBeheer Antwerpen
B29: P-0026 | C29: Kantoor | D29: Antwerpen | E29: Wijnegem | F29: 2110 | G29: Molenstraat | H29: 153 | I29: 101 | J29: Molenstraat 153 bus 0101, 2110 Wijnegem | K29: Nathalie Mertens | L29: nathalie.mertens@eigenaar.example | M29: 0428 42 06 18 | N29: BE14 1962 5018 3686 | O29: Amina Maes | P29: amina.maes@huurder.example | Q29: 0428 42 06 18 | R29: BE67 13062 2918 6986 | S29: HC-2022-0026 | T29: 44873 | V29: Verhuurd | W29: 1812 | X29: 5436 | Y29: E | Z29: 1999 | AA29: 289 | AB29: 0 | AC29: Nee | AD29: 5.4144e+16 | AE29: EL-453562 | AF29: WA-232158 | AG29: Stookolie | AH29: 45719 | AI29: Jaarlijks | AJ29: ImmoBeheer Antwerpen
B30: P-0027 | C30: Magazijn | D30: Antwerpen | E30: Mechelen | F30: 2800 | G30: Beukenlaan | H30: 166 | I30: A | J30: Beukenlaan 166 bus A, 2800 Mechelen | K30: Inge De Smet | L30: inge.desmet@eigenaar.example | M30: 0401 59 37 61 | N30: BE21 1999 5211 4597 | O30: Bram De Smet | P30: bram.desmet@huurder.example | Q30: 0401 59 37 61 | R30: BE74 13099 3111 7897 | S30: HC-2023-0027 | T30: 45031 | V30: Verhuurd | W30: 1733 | X30: 5199 | Y30: A | Z30: 2006 | AA30: 471 | AB30: 0 | AC30: Nee | AD30: 5.4144e+16 | AE30: EL-453699 | AF30: WA-232241 | AG30: Elektrisch | AH30: 45752 | AI30: Jaarlijks | AJ30: ImmoBeheer Antwerpen
B31: P-0028 | C31: Studio | D31: Antwerpen | E31: Herentals | F31: 2200 | G31: Begijnhofstraat | H31: 179 | I31: 2 | J31: Begijnhofstraat 179 bus 2, 2200 Herentals | K31: Katrien Martens | L31: katrien.martens@eigenaar.example | M31: 0404 76 68 04 | N31: BE28 2036 5404 5508 | O31: Jeroen Aerts | P31: jeroen.aerts@huurder.example | Q31: 0404 76 68 04 | R31: BE81 13136 3304 8808 | S31: HC-2024-0028 | T31: 45557 | V31: Verhuurd | W31: 576 | X31: 1728 | Y31: C | Z31: 2013 | AA31: 168 | AB31: 5 | AC31: Ja | AD31: 5.4144e+16 | AE31: EL-453836 | AF31: WA-232324 | AG31: Collectieve verwarming | AH31: 45784 | AI31: Jaarlijks | AJ31: ImmoBeheer Antwerpen | AK31: Waarborgattest nog op te vragen
B32: P-0029 | C32: Woning | D32: Antwerpen | E32: Boom | F32: 2850 | G32: Schoolstraat | H32: 6 | I32: 202 | J32: Schoolstraat 6 bus 0202, 2850 Boom | K32: Wim Janssens | L32: wim.janssens@eigenaar.example | M32: 0407 93 99 47 | N32: BE35 2073 5597 6419 | O32: Eva Willems | P32: eva.willems@huurder.example | Q32: 0407 93 99 47 | R32: BE88 13173 3497 9719 | S32: HC-2025-0029 | T32: 45692 | V32: Opgezegd | W32: 1601 | X32: 4803 | Y32: E | Z32: 2020 | AA32: 179 | AB32: 3 | AC32: Nee | AD32: 5.4144e+16 | AE32: EL-453973 | AF32: WA-232407 | AG32: Warmtepomp | AH32: 45817 | AI32: Jaarlijks | AJ32: ImmoBeheer Antwerpen
B33: P-0030 | C33: Duplex | D33: Antwerpen | E33: Schoten | F33: 2900 | G33: Turnhoutsebaan | H33: 19 | I33: B | J33: Turnhoutsebaan 19 bus B, 2900 Schoten | K33: Jan Claes | L33: jan.claes@eigenaar.example | M33: 0410 10 30 90 | N33: BE42 2110 5790 7330 | O33: Julie Van den Broeck | P33: julie.vandenbroeck@huurder.example | Q33: 0410 10 30 90 | R33: BE06 13210 3690 0630 | S33: HC-2020-0030 | T33: 44023 | U33: 45118 | V33: Verhuurd | W33: 1030 | X33: 3090 | Y33: A | Z33: 1958 | AA33: 190 | AB33: 1 | AC33: Nee | AD33: 5.4144e+16 | AE33: EL-454110 | AF33: WA-232490 | AG33: Gas individueel | AH33: 45849 | AI33: Jaarlijks | AJ33: ImmoBeheer Antwerpen
B34: P-0031 | C34: Garage | D34: Antwerpen | E34: Heist-op-den-Berg | F34: 2220 | G34: Ringlaan | H34: 32 | I34: 3 | J34: Ringlaan 32 bus 3, 2220 Heist-op-den-Berg | K34: Peter Lemmens | L34: peter.lemmens@eigenaar.example | M34: 0413 27 61 33 | N34: BE49 2147 5983 8241 | S34: HC-2021-0031 | T34: 44548 | V34: Te verhuren | W34: 156 | X34: 468 | Y34: C | Z34: 1965 | AA34: 29 | AB34: 0 | AC34: Ja | AD34: 5.4144e+16 | AE34: EL-454247 | AF34: WA-232573 | AG34: Stookolie | AH34: 45882 | AI34: Jaarlijks | AJ34: ImmoBeheer Antwerpen
B35: P-0032 | C35: Appartement | D35: Antwerpen | E35: Edegem | F35: 2650 | G35: Nieuwstraat | H35: 45 | J35: Nieuwstraat 45, 2650 Edegem | K35: Koen Aerts | L35: koen.aerts@eigenaar.example | M35: 0416 44 92 76 | N35: BE56 2184 6176 9152 | O35: Yassin Wouters | P35: yassin.wouters@huurder.example | Q35: 0416 44 92 76 | R35: BE20 13284 4076 2452 | S35: HC-2022-0032 | T35: 44706 | V35: Verhuurd | W35: 1456 | X35: 4368 | Y35: E | Z35: 1972 | AA35: 212 | AB35: 2 | AC35: Ja | AD35: 5.4144e+16 | AE35: EL-454384 | AF35: WA-232656 | AG35: Elektrisch | AH35: 45915 | AI35: Jaarlijks | AJ35: ImmoBeheer Antwerpen
B36: P-0033 | C36: Handelspand | D36: Antwerpen | E36: Zandhoven | F36: 2240 | G36: Mechelsesteenweg | H36: 58 | I36: 1 | J36: Mechelsesteenweg 58 bus 1, 2240 Zandhoven | K36: Marc Jacobs | L36: marc.jacobs@eigenaar.example | M36: 0419 61 23 19 | N36: BE63 2221 6369 0063 | O36: Samira Michiels | P36: samira.michiels@huurder.example | Q36: 0419 61 23 19 | R36: BE27 13321 4269 3363 | S36: HC-2023-0033 | T36: 45206 | V36: Verhuurd | W36: 2553 | X36: 7659 | Y36: A | Z36: 1979 | AA36: 301 | AB36: 0 | AC36: Nee | AD36: 5.4144e+16 | AE36: EL-454521 | AF36: WA-232739 | AG36: Collectieve verwarming | AH36: 45947 | AI36: Jaarlijks | AJ36: ImmoBeheer Antwerpen | AK36: EPC-vernieuwing gepland
B37: P-0034 | C37: Kantoor | D37: Antwerpen | E37: Lier | F37: 2500 | G37: Havenweg | H37: 71 | I37: 101 | J37: Havenweg 71 bus 0101, 2500 Lier | K37: Tom Wouters | L37: tom.wouters@eigenaar.example | M37: 0422 78 54 62 | N37: BE70 2258 6562 0974 | S37: HC-2024-0034 | T37: 45365 | V37: Leegstand | W37: 2108 | X37: 6324 | Y37: C | Z37: 1986 | AA37: 101 | AB37: 0 | AC37: Nee | AD37: 5.4144e+16 | AE37: EL-454658 | AF37: WA-232822 | AG37: Warmtepomp | AH37: 45980 | AI37: Jaarlijks | AJ37: ImmoBeheer Antwerpen
B38: P-0035 | C38: Magazijn | D38: Antwerpen | E38: Mol | F38: 2400 | G38: Kapellestraat | H38: 84 | I38: A | J38: Kapellestraat 84 bus A, 2400 Mol | K38: Dirk Hendrickx | L38: dirk.hendrickx@eigenaar.example | M38: 0425 95 85 05 | N38: BE77 2295 6755 1885 | O38: Amina Lemmens | P38: amina.lemmens@huurder.example | Q38: 0425 95 85 05 | R38: BE41 13395 4655 5185 | S38: HC-2025-0035 | T38: 45890 | U38: 46986 | V38: Verhuurd | W38: 1965 | X38: 5895 | Y38: E | Z38: 1993 | AA38: 575 | AB38: 0 | AC38: Nee | AD38: 5.4144e+16 | AE38: EL-454795 | AF38: WA-232905 | AG38: Gas individueel | AH38: 46012 | AI38: Jaarlijks | AJ38: ImmoBeheer Antwerpen
